BEGIN:VCALENDAR
VERSION:2.0
PRODID:-//Your Site//NONSGML v1.0//EN
BEGIN:VTIMEZONE
TZID:Europe/Amsterdam
BEGIN:DAYLIGHT
TZOFFSETFROM:+0100
TZOFFSETTO:+0200
DTSTART:19700329T020000
RRULE:FREQ=YEARLY;BYMONTH=3;BYDAY=-1SU
END:DAYLIGHT
BEGIN:STANDARD
TZOFFSETFROM:+0200
TZOFFSETTO:+0100
DTSTART:19701025T030000
RRULE:FREQ=YEARLY;BYMONTH=10;BYDAY=-1SU
END:STANDARD
END:VTIMEZONE
BEGIN:VEVENT
UID:69ea0ceb09a69
DTSTAMP:20260423T121331Z
DTSTART;TZID=Europe/Amsterdam:20260611T140000
DTEND;TZID=Europe/Amsterdam:20260611T160000
SUMMARY:Bijeenkomst NSTT-Afdeling Leidingrenovatie
DESCRIPTION:De voorjaarsvergadering van de NSTT-Afdeling Leidingrenovatie vindt plaats op 11 juni 2026.
De bijeenkomst is alleen toegankelijk voor leden van de Afdeling.

Locatie: Amiblu, Marconistraat 10-11   Tiel
LOCATION:Amiblu, Marconistraat 10-11   Tiel
END:VEVENT
END:VCALENDAR
