BEGIN:VCALENDAR
VERSION:2.0
PRODID:-//Your Site//NONSGML v1.0//EN
BEGIN:VTIMEZONE
TZID:Europe/Amsterdam
BEGIN:DAYLIGHT
TZOFFSETFROM:+0100
TZOFFSETTO:+0200
DTSTART:19700329T020000
RRULE:FREQ=YEARLY;BYMONTH=3;BYDAY=-1SU
END:DAYLIGHT
BEGIN:STANDARD
TZOFFSETFROM:+0200
TZOFFSETTO:+0100
DTSTART:19701025T030000
RRULE:FREQ=YEARLY;BYMONTH=10;BYDAY=-1SU
END:STANDARD
END:VTIMEZONE
BEGIN:VEVENT
UID:69ea0d84b3516
DTSTAMP:20260423T121604Z
DTSTART;TZID=Europe/Amsterdam:20260521T160000
DTEND;TZID=Europe/Amsterdam:20260521T170000
SUMMARY:ISTT-Webinar: Engineering-Based Condition Assessment of Large-Diameter Sewers and Wastewater Structures for Structural Capacity Evaluation
DESCRIPTION:ISTT-Webinar: Engineering-Based Condition Assessment of Large-Diameter Sewers and Wastewater Structures for Structural Capacity Evaluation
Presenter: Dr.-Ing. Robert Stein, Stein & Partner GmBH, Germany
LOCATION:Webinar
END:VEVENT
END:VCALENDAR
