BEGIN:VCALENDAR
VERSION:2.0
PRODID:-//Your Site//NONSGML v1.0//EN
BEGIN:VTIMEZONE
TZID:Europe/Amsterdam
BEGIN:DAYLIGHT
TZOFFSETFROM:+0100
TZOFFSETTO:+0200
DTSTART:19700329T020000
RRULE:FREQ=YEARLY;BYMONTH=3;BYDAY=-1SU
END:DAYLIGHT
BEGIN:STANDARD
TZOFFSETFROM:+0200
TZOFFSETTO:+0100
DTSTART:19701025T030000
RRULE:FREQ=YEARLY;BYMONTH=10;BYDAY=-1SU
END:STANDARD
END:VTIMEZONE
BEGIN:VEVENT
UID:69ea234921309
DTSTAMP:20260423T134857Z
DTSTART;TZID=Europe/Amsterdam:20271013T100000
DTEND;TZID=Europe/Amsterdam:20271014T180000
SUMMARY:NSTT No-Dig Event 2027: 13 en 14 oktober 2027
DESCRIPTION:Op 13 en 14 oktober 2027 bent u welkom op het tweejaarlijkse NSTT No-Dig Event. Een kennisplatform voor iedereen die raakvlakken heeft met ondergrondse infrastructuur. In twee dagen van beurs, lezingen en livedemonstraties bent u weer helemaal bij op het gebied van sleufloos (zonder graven) aanleggen of renoveren van ondergrondse kabels en leidingen. Want No-dig is nodig: minder hinder, kostenefficiÃ«nt en duurzaam. Voor meer informatie: www.no-dig-event.nl.
LOCATION:Hart van Holland Nijkerk
END:VEVENT
END:VCALENDAR
